Workbook
Name \M: Ausdruck!#REF!

Sheet Schnittliste
A1: Sport-Kegel-Klub Walhalla Donaustauf e.V.
A2: Ergebnisse aus dem Zeitraum | G2: Saison 2026/2027
C3: Schnittliste | D3: Vorrunde | M3: Rückrunde | X3: Aushelfer
A4: Platz | B4: M | C4: Spieler | D4: 1 | E4: 2 | F4: 3 | G4: 4 | H4: 5 | I4: 6 | J4: 7 | K4: 8 | L4: 9 | M4: 10 | N4: 11 | O4: 12 | P4: 13 | Q4: 14 | R4: 15 | S4: 16 | T4: 17 | U4: 18 | V4: 19 | W4: 20 | X4: A1 | Y4: A2 | Z4: A3 | AA4: A4 | AB4: A5 | AC4: A6 | AD4: A7 | AE4: A8 | AF4: A9 | AG4: A10 | AH4: A11 | AI4: Schnitt | AJ4: Gesamt- Holz | AK4: Anzahl Kämpfe | AL4: Gesamt- kämpfe | AM4: Kämpfe Vorjahre | AN4: letzter Spieltag | AP4: Saison Best | AQ4: 120 Wurf
A5: 1 | B5: 1 | C5: Streubel Helmut | D5: 532 | E5: 529 | F5: 579 | G5: 487 | X5: 521 | AI5: =IF(SUM(D5:AH5)>0,ROUND(SUM(D5:AH5)/COUNT(D5:AH5),2),0) -> 529.6 | AJ5: =SUM(D5:AH5) -> 2648 | AK5: =COUNT(D5:AD5) -> 5 | AL5: =COUNT(D5:AD5)+AM5 -> 164 | AM5: 159 | AN5: =G5 -> 487 | AP5: =MAX(D5:AH5) -> 579 | AQ5: 582
A6: 2 | B6: 1 | C6: Leichtl Helmut | D6: 519 | E6: 556 | F6: 511 | G6: 530 | AI6: =IF(SUM(D6:AF6)>0,ROUND(SUM(D6:AF6)/COUNT(D6:AF6),2),0) -> 529 | AJ6: =SUM(D6:AH6) -> 2116 | AK6: =COUNT(D6:AD6) -> 4 | AL6: =COUNT(D6:AD6)+AM6 -> 754 | AM6: 750 | AN6: =G6 -> 530 | AP6: =MAX(D6:AH6) -> 556 | AQ6: 605
A7: 3 | B7: 1 | C7: Taffner Christian | D7: 494 | F7: 556 | G7: 513 | AI7: =IF(SUM(D7:AF7)>0,ROUND(SUM(D7:AF7)/COUNT(D7:AF7),2),0) -> 521 | AJ7: =SUM(D7:AH7) -> 1563 | AK7: =COUNT(D7:AD7) -> 3 | AL7: =COUNT(D7:AD7)+AM7 -> 208 | AM7: 205 | AN7: =G7 -> 513 | AP7: =MAX(D7:AH7) -> 556 | AQ7: 591
A8: 4 | B8: 1 | C8: Schmalzl Hubert | D8: 520 | E8: 515 | F8: 505 | G8: 547 | X8: 500 | AI8: =IF(SUM(D8:AF8)>0,ROUND(SUM(D8:AF8)/COUNT(D8:AF8),2),0) -> 517.4 | AJ8: =SUM(D8:AH8) -> 2587 | AK8: =COUNT(D8:AD8) -> 5 | AL8: =COUNT(D8:AD8)+AM8 -> 185 | AM8: 180 | AN8: =G8 -> 547 | AP8: =MAX(D8:AH8) -> 547 | AQ8: 601
A9: 5 | B9: 2 | C9: Barna Laszlo | F9: 485 | G9: 579 | X9: 470 | AI9: =IF(SUM(D9:AF9)>0,ROUND(SUM(D9:AF9)/COUNT(D9:AF9),2),0) -> 511.33 | AJ9: =SUM(D9:AH9) -> 1534 | AK9: =COUNT(D9:AH9) -> 3 | AL9: =COUNT(D9:AH9)+AM9 -> 61 | AM9: 58 | AN9: =G9 -> 579 | AP9: =MAX(D9:AH9) -> 579 | AQ9: 574
A10: 6 | B10: 2 | C10: Kerekes Janos | D10: 435 | E10: 521 | F10: 476 | G10: 500 | AI10: =IF(SUM(D10:AF10)>0,ROUND(SUM(D10:AF10)/COUNT(D10:AF10),2),0) -> 483 | AJ10: =SUM(D10:AH10) -> 1932 | AK10: =COUNT(D10:AD10) -> 4 | AL10: =COUNT(D10:AD10)+AM10 -> 61 | AM10: 57 | AN10: =G10 -> 500 | AP10: =MAX(D10:AH10) -> 521 | AQ10: 555
A11: 7 | B11: 2 | C11: Schlehuber Franz | D11: 414 | E11: 212 | F11: 408 | G11: 441 | AI11: =IF(SUM(D11:AE11)>0,ROUND(((SUM(D11:AE11)+212))/COUNT(D11:AE11),2),0) -> 421.75 | AJ11: =SUM(D11:AH11) -> 1475 | AK11: =COUNT(D11:AD11) -> 4 | AL11: =COUNT(D11:AD11)+AM11 -> 247 | AM11: 243 | AN11: =G11 -> 441 | AP11: =MAX(D11:AH11) -> 441 | AQ11: 490
A12: 8 | B12: 2 | C12: Plakida Hanna | D12: 212 | E12: 432 | F12: 413 | G12: 407 | AI12: =IF(SUM(D12:AE12)>0,ROUND(((SUM(D12:AE12)+212))/COUNT(D12:AE12),2),0) -> 419 | AJ12: =SUM(D12:AH12) -> 1464 | AK12: =COUNT(D12:AD12) -> 4 | AL12: =COUNT(D12:AD12)+AM12 -> 7 | AM12: 3 | AN12: =G12 -> 407 | AP12: =MAX(D12:AH12) -> 432 | AQ12: 455
A13: 9 | B13: 2 | C13: Auer Wilhelm | D13: 208 | E13: 210 | AI13: =IF(SUM(D13:AE13)>0,ROUND(((SUM(D13:AE13)+208+210))/COUNT(D13:AE13),2),0) -> 418 | AJ13: =SUM(D13:AH13) -> 418 | AK13: =COUNT(D13:AD13) -> 2 | AL13: =COUNT(D13:AD13)+AM13 -> 20 | AM13: 18 | AN13: =G13 -> 0 | AP13: =MAX(D13:AH13) -> 210 | AQ13: 466
A14: 10 | B14: 2 | C14: Stenrüter Heinz | AI14: =IF(SUM(D14:AE14)>0,ROUND((SUM(D14:AE14)+207)/COUNT(D14:AE14),2),0) -> 0 | AJ14: =SUM(D14:AH14) -> 0 | AK14: =COUNT(D14:AD14) -> 0 | AL14: =COUNT(D14:AD14)+AM14 -> 221 | AM14: 221 | AN14: =G14 -> 0 | AP14: =MAX(D14:AH14) -> 0 | AQ14: 551
A15: 11 | B15: 2 | C15: Stadler Wolfgang | AI15: =IF(SUM(D15:AE15)>0,ROUND((SUM(D15:AE15)+207)/COUNT(D15:AE15),2),0) -> 0 | AJ15: =SUM(D15:AH15) -> 0 | AK15: =COUNT(D15:AD15) -> 0 | AL15: =COUNT(D15:AD15)+AM15 -> 356 | AM15: 356 | AN15: =F15 -> 0 | AP15: =MAX(D15:AD15) -> 0 | AQ15: 508
A16: 12 | B16: 2 | C16: Link Karl-Heinz | AI16: =IF(SUM(D16:AE16)>0,ROUND((SUM(D16:AE16)+207)/COUNT(D16:AE16),2),0) -> 0 | AJ16: =SUM(D16:AH16) -> 0 | AK16: =COUNT(D16:AD16) -> 0 | AL16: =COUNT(D16:AD16)+AM16 -> 413 | AM16: 413 | AN16: =F16 -> 0 | AP16: =MAX(D16:AD16) -> 0 | AQ16: 539
A17: 13 | B17: 2 | C17: Wagenfeld Monika | AI17: =IF(SUM(D17:AE17)>0,ROUND((SUM(D17:AE17)+196)/COUNT(D17:AE17),2),0) -> 0 | AJ17: =SUM(D17:AH17) -> 0 | AK17: =COUNT(D17:AD17) -> 0 | AL17: =COUNT(D17:AB17)+AM17 -> 26 | AM17: 26 | AN17: =F17 -> 0 | AP17: =MAX(D17:AD17) -> 0 | AQ17: 481
A18: 14 | B18: 2 | C18: Ponkratz Robert | AI18: =IF(SUM(D18:AE18)>0,ROUND((SUM(D18:AE18)+195)/COUNT(D18:AE18),2),0) -> 0 | AJ18: =SUM(D18:AH18) -> 0 | AK18: =COUNT(D18:AD18) -> 0 | AL18: =COUNT(D18:AB18)+AM18 -> 833 | AM18: 833 | AN18: =F18 -> 0 | AP18: =MAX(D18:AD18) -> 0 | AQ18: 560
J20: Ergenisse in rot gehen zu 50 % in die Schnittberechnung ein, weil 2 x 30 Schub vollendet waren
N21: bzw. 67 % und 33 % in die Schnittberechnung ein, weil 90 bzw 30 Schub vollendet waren | AL21: Aushelfer
C22: Querprüfung | D22: =SUM(D5:D18) -> 3334 | E22: =SUM(E5:E18) -> 2975 | F22: =SUM(F5:F18) -> 3933 | G22: =SUM(G5:G18) -> 4004 | H22: =SUM(H5:H18) -> 0 | I22: =SUM(I5:I18) -> 0 | J22: =SUM(J5:J18) -> 0 | K22: =SUM(K5:K18) -> 0 | ... AH22: =SUM(AH5:AH18) -> 0 | AI22: =SUM(D5:AH18) -> 15737 | AJ22: =SUM(D22:AH22) -> 15737 | AK22: =SUM(AK5:AK18) -> 34 | AL22: Aushelfer
C23: Männer 1 | D23: 2065 | E23: 2070 | F23: 2151 | G23: 2077 | AI23: =SUM(D23:AH23) -> 8363 | AL23: Aushelfer
C24: Männer 2 | D24: 1769 | E24: 1896 | F24: 1782 | G24: 1927 | AI24: =SUM(D24:AH24) -> 7374 | AL24: Aushelfer
D25: =SUM(D23:D24) -> 3834 | E25: =SUM(E23:E24) -> 3966 | F25: =SUM(F23:F24) -> 3933 | G25: =SUM(G23:G24) -> 4004 | H25: =SUM(H23:H24) -> 0 | I25: =SUM(I23:I24) -> 0 | J25: =SUM(J23:J24) -> 0 | K25: =SUM(K23:K24) -> 0 | ... AI25: =SUM(AI23:AI24) -> 15737 | AJ25: =SUM(D25:AH25) -> 15737 | AL25: Tagessumme | AN25: =SUM(AN5:AN23) -> 4004
Y27: Differenz | AI27: 0 | AJ27: =AJ25-AJ22 -> 0 | AN27: =AN25-G25 -> 0

Sheet Ausdruck
A1: Sportkegelklub Walhalla Donaustauf e.V.
A2: Ergebnisse aus der Saison 2026/2027 | G2: 41. Woche 2026
A3: Platz- | B3: Mann- | C3: Name | D3: Kämpfe | E3: Holzzahl | F3: letzter | G3: Durch- | H3: Gesamt-
A4: Nr. | B4: schaft | D4: Saison | E4: Saison | F4: Spieltag | G4: schnitt | H4: kämpfe
A5: 1 | B5: =Schnittliste!B5 -> 1 | C5: =Schnittliste!C5 -> Streubel Helmut | D5: =Schnittliste!AK5 -> 5 | E5: =Schnittliste!AJ5 -> 2648 | F5: =Schnittliste!AN5 -> 487 | G5: =Schnittliste!AI5 -> 529.6 | H5: =Schnittliste!AL5 -> 164 | I5: -
A6: 2 | B6: =Schnittliste!B6 -> 1 | C6: =Schnittliste!C6 -> Leichtl Helmut | D6: =Schnittliste!AK6 -> 4 | E6: =Schnittliste!AJ6 -> 2116 | F6: =Schnittliste!AN6 -> 530 | G6: =Schnittliste!AI6 -> 529 | H6: =Schnittliste!AL6 -> 754 | I6: 1
A7: 3 | B7: =Schnittliste!B7 -> 1 | C7: =Schnittliste!C7 -> Taffner Christian | D7: =Schnittliste!AK7 -> 3 | E7: =Schnittliste!AJ7 -> 1563 | F7: =Schnittliste!AN7 -> 513 | G7: =Schnittliste!AI7 -> 521 | H7: =Schnittliste!AL7 -> 208 | I7: 1
A8: 4 | B8: =Schnittliste!B8 -> 1 | C8: =Schnittliste!C8 -> Schmalzl Hubert | D8: =Schnittliste!AK8 -> 5 | E8: =Schnittliste!AJ8 -> 2587 | F8: =Schnittliste!AN8 -> 547 | G8: =Schnittliste!AI8 -> 517.4 | H8: =Schnittliste!AL8 -> 185 | I8: 1
A9: 5 | B9: =Schnittliste!B9 -> 2 | C9: =Schnittliste!C9 -> Barna Laszlo | D9: =Schnittliste!AK9 -> 3 | E9: =Schnittliste!AJ9 -> 1534 | F9: =Schnittliste!AN9 -> 579 | G9: =Schnittliste!AI9 -> 511.33 | H9: =Schnittliste!AL9 -> 61 | I9: 1
A10: 6 | B10: =Schnittliste!B10 -> 2 | C10: =Schnittliste!C10 -> Kerekes Janos | D10: =Schnittliste!AK10 -> 4 | E10: =Schnittliste!AJ10 -> 1932 | F10: =Schnittliste!AN10 -> 500 | G10: =Schnittliste!AI10 -> 483 | H10: =Schnittliste!AL10 -> 61 | K10: 3
A11: 7 | B11: =Schnittliste!B11 -> 2 | C11: =Schnittliste!C11 -> Schlehuber Franz | D11: =Schnittliste!AK11 -> 4 | E11: =Schnittliste!AJ11 -> 1475 | F11: =Schnittliste!AN11 -> 441 | G11: =Schnittliste!AI11 -> 421.75 | H11: =Schnittliste!AL11 -> 247 | I11: F
A12: 8 | B12: =Schnittliste!B12 -> 2 | C12: =Schnittliste!C12 -> Plakida Hanna | D12: =Schnittliste!AK12 -> 4 | E12: =Schnittliste!AJ12 -> 1464 | F12: =Schnittliste!AN12 -> 407 | G12: =Schnittliste!AI12 -> 419 | H12: =Schnittliste!AL12 -> 7 | J12: 2 | N12: 01.04. - 30.06.2017 | O12: ev. Wechsel
A13: 9 | B13: =Schnittliste!B13 -> 2 | C13: =Schnittliste!C13 -> Auer Wilhelm | D13: =Schnittliste!AK13 -> 2 | E13: =Schnittliste!AJ13 -> 418 | F13: =Schnittliste!AN13 -> 0 | G13: =Schnittliste!AI13 -> 418 | H13: =Schnittliste!AL13 -> 20 | K13: 3
A14: 10 | B14: =Schnittliste!B14 -> 2 | C14: =Schnittliste!C14 -> Stenrüter Heinz | D14: =Schnittliste!AK14 -> 0 | E14: =Schnittliste!AJ14 -> 0 | F14: =Schnittliste!AN14 -> 0 | G14: =Schnittliste!AI14 -> 0 | H14: =Schnittliste!AL14 -> 221 | J14: 2
A15: 11 | B15: =Schnittliste!B15 -> 2 | C15: =Schnittliste!C15 -> Stadler Wolfgang | D15: =Schnittliste!AK15 -> 0 | E15: =Schnittliste!AJ15 -> 0 | F15: =Schnittliste!AN15 -> 0 | G15: =Schnittliste!AI15 -> 0 | H15: =Schnittliste!AL15 -> 356 | I15: F
A16: 12 | B16: =Schnittliste!B16 -> 2 | C16: =Schnittliste!C16 -> Link Karl-Heinz | D16: =Schnittliste!AK16 -> 0 | E16: =Schnittliste!AJ16 -> 0 | F16: =Schnittliste!AN16 -> 0 | G16: =Schnittliste!AI16 -> 0 | H16: =Schnittliste!AL16 -> 413 | K16: 3
A17: 13 | B17: =Schnittliste!B17 -> 2 | C17: =Schnittliste!C17 -> Wagenfeld Monika | D17: =Schnittliste!AK17 -> 0 | E17: =Schnittliste!AJ17 -> 0 | F17: =Schnittliste!AN17 -> 0 | G17: =Schnittliste!AI17 -> 0 | H17: =Schnittliste!AL17 -> 26 | J17: 2
A18: 14 | B18: =Schnittliste!B18 -> 2 | C18: =Schnittliste!C18 -> Ponkratz Robert | D18: =Schnittliste!AK18 -> 0 | E18: =Schnittliste!AJ18 -> 0 | F18: =Schnittliste!AN18 -> 0 | G18: =Schnittliste!AI18 -> 0 | H18: =Schnittliste!AL18 -> 833 | J18: 2
B20: Der Sportwart | D20: =SUM(D8:D18) -> 22 | F20: Donaustauf , | G20: 46312
L21: 4
B22: =COUNTIF(B5:B18,1) -> 4 | C22: 1. Mannschaft | E22: =SUM(E5:E18) -> 15737 | I22: F
B23: =COUNTIF(B5:B18,2) -> 10 | C23: 2. Mannschaft | L23: 4
I25: =COUNTIF(I5:I23,"F") -> 3
